BEGIN:VCALENDAR
VERSION:2.0
PRODID:-//Manufacturing NI - ECPv6.15.18//NONSGML v1.0//EN
CALSCALE:GREGORIAN
METHOD:PUBLISH
X-ORIGINAL-URL:https://www.manufacturingni.org
X-WR-CALDESC:Events for Manufacturing NI
REFRESH-INTERVAL;VALUE=DURATION:PT1H
X-Robots-Tag:noindex
X-PUBLISHED-TTL:PT1H
BEGIN:VTIMEZONE
TZID:Europe/Paris
BEGIN:DAYLIGHT
TZOFFSETFROM:+0100
TZOFFSETTO:+0200
TZNAME:CEST
DTSTART:20240331T010000
END:DAYLIGHT
BEGIN:STANDARD
TZOFFSETFROM:+0200
TZOFFSETTO:+0100
TZNAME:CET
DTSTART:20241027T010000
END:STANDARD
BEGIN:DAYLIGHT
TZOFFSETFROM:+0100
TZOFFSETTO:+0200
TZNAME:CEST
DTSTART:20250330T010000
END:DAYLIGHT
BEGIN:STANDARD
TZOFFSETFROM:+0200
TZOFFSETTO:+0100
TZNAME:CET
DTSTART:20251026T010000
END:STANDARD
BEGIN:DAYLIGHT
TZOFFSETFROM:+0100
TZOFFSETTO:+0200
TZNAME:CEST
DTSTART:20260329T010000
END:DAYLIGHT
BEGIN:STANDARD
TZOFFSETFROM:+0200
TZOFFSETTO:+0100
TZNAME:CET
DTSTART:20261025T010000
END:STANDARD
END:VTIMEZONE
BEGIN:VEVENT
DTSTART;TZID=Europe/Paris:20250903T130000
DTEND;TZID=Europe/Paris:20250903T140000
DTSTAMP:20260420T053937
CREATED:20250710T102632Z
LAST-MODIFIED:20250903T111643Z
UID:9575-1756904400-1756908000@www.manufacturingni.org
SUMMARY:The Energy Opportunity - Unlocking Savings\, Resilience and Compliance
DESCRIPTION:Webinar slides and recording: “The Energy Opportunity: Unlocking Savings\, Resilience and Compliance” \nFollowing our webinar with Carbonfit\, many businesses may be considering their next steps\, particularly with pass-through cost changes arriving in October and winter pricing kicking in from November. \nOne practical step discussed is reviewing your energy data to identify areas for improvement. The ability to track and report on actions taken can help demonstrate ROI while supporting compliance and procurement requirements.\nTo assist with this\, Carbonfit is offering a free Energy Health Check for Manufacturing NI members and webinar attendees.\nThis involves a review of your recent electricity and gas bills to assess:\n\n\nWhether you’re eligible for any rebates \n\n\nIf you can switch to a lower-cost green tariff \n\n\nHow to reduce your exposure to rising prices \n\n\n📲 [Click here to upload your bills. \n\n03.09.25 Carbonfit Manufacturing NI Webinar1
URL:https://www.manufacturingni.org/event/the-energy-opportunity-unlocking-savings-resilience-and-compliance/
LOCATION:Online
CATEGORIES:Energy,Webinar
ATTACH;FMTTYPE=image/png:https://www.manufacturingni.org/wp-content/uploads/2025/07/CarbonFit-webinar-2.png
END:VEVENT
BEGIN:VEVENT
DTSTART;TZID=Europe/Paris:20250923T130000
DTEND;TZID=Europe/Paris:20250923T140000
DTSTAMP:20260420T053937
CREATED:20250825T101118Z
LAST-MODIFIED:20250923T202656Z
UID:9937-1758632400-1758636000@www.manufacturingni.org
SUMMARY:Sustainable Engineering Wins in Manufacturing
DESCRIPTION:Reliance NI\, in partnership with Manufacturing NI\, recently hosted “Sustainable Engineering Wins in Manufacturing”\, a webinar exploring how energy efficiency delivers both financial and environmental benefits. With motors consuming 46% of global electricity\, efficiency is no longer just about cutting costs\, it’s a critical strategy for building sustainable and competitive operations. Case studies highlighted payback in as little as 3–6 months\, with annual savings of up to £37\,000 and reductions of 73 tonnes of CO₂. \n\n\nKey Takeaways \n\n\n\nSmart sustainable technologies that are easy to install typically save at least 10% on energy costs.\nBeyond savings\, these solutions also enhance maintenance programs and operational performance.\nSite application audits are available by Reliance on request.\n\n\n\nSome Proven technologies include: \n\n\n\nInvertek Optidrive™ variable frequency drives (VFDs)\n\n\n\n\nOptibelt Red Power V Belts\n\n\n\nView slides: MANUFACTURING.NI.WEBINAR.23.09.25 \n\n\nAs operating costs and carbon pressures grow\, energy efficiency is emerging as one of the fastest ways to cut expenses and future-proof operations. To explore how these solutions could benefit your facility\, contact Reliance NI: \n\n\nPat Walsh\, Engineering Manager \n\n\nE: patwalsh@reliance.ie \n\n\nW: www.relianceni.uk
URL:https://www.manufacturingni.org/event/sustainable-engineering-wins-in-manufacturing/
LOCATION:Online
CATEGORIES:Technology,Webinar
ATTACH;FMTTYPE=image/png:https://www.manufacturingni.org/wp-content/uploads/2025/08/Reliance-MNI-webinar1.png
END:VEVENT
END:VCALENDAR