BEGIN:VCALENDAR
VERSION:2.0
PRODID:-//Manufacturing NI - ECPv6.15.18//NONSGML v1.0//EN
CALSCALE:GREGORIAN
METHOD:PUBLISH
X-WR-CALNAME:Manufacturing NI
X-ORIGINAL-URL:https://www.manufacturingni.org
X-WR-CALDESC:Events for Manufacturing NI
REFRESH-INTERVAL;VALUE=DURATION:PT1H
X-Robots-Tag:noindex
X-PUBLISHED-TTL:PT1H
BEGIN:VTIMEZONE
TZID:Europe/Paris
BEGIN:DAYLIGHT
TZOFFSETFROM:+0100
TZOFFSETTO:+0200
TZNAME:CEST
DTSTART:20200329T010000
END:DAYLIGHT
BEGIN:STANDARD
TZOFFSETFROM:+0200
TZOFFSETTO:+0100
TZNAME:CET
DTSTART:20201025T010000
END:STANDARD
BEGIN:DAYLIGHT
TZOFFSETFROM:+0100
TZOFFSETTO:+0200
TZNAME:CEST
DTSTART:20210328T010000
END:DAYLIGHT
BEGIN:STANDARD
TZOFFSETFROM:+0200
TZOFFSETTO:+0100
TZNAME:CET
DTSTART:20211031T010000
END:STANDARD
BEGIN:DAYLIGHT
TZOFFSETFROM:+0100
TZOFFSETTO:+0200
TZNAME:CEST
DTSTART:20220327T010000
END:DAYLIGHT
BEGIN:STANDARD
TZOFFSETFROM:+0200
TZOFFSETTO:+0100
TZNAME:CET
DTSTART:20221030T010000
END:STANDARD
BEGIN:DAYLIGHT
TZOFFSETFROM:+0100
TZOFFSETTO:+0200
TZNAME:CEST
DTSTART:20230326T010000
END:DAYLIGHT
BEGIN:STANDARD
TZOFFSETFROM:+0200
TZOFFSETTO:+0100
TZNAME:CET
DTSTART:20231029T010000
END:STANDARD
BEGIN:DAYLIGHT
TZOFFSETFROM:+0100
TZOFFSETTO:+0200
TZNAME:CEST
DTSTART:20240331T010000
END:DAYLIGHT
BEGIN:STANDARD
TZOFFSETFROM:+0200
TZOFFSETTO:+0100
TZNAME:CET
DTSTART:20241027T010000
END:STANDARD
END:VTIMEZONE
BEGIN:VEVENT
DTSTART;TZID=Europe/Paris:20230627T130000
DTEND;TZID=Europe/Paris:20230627T143000
DTSTAMP:20260419T211829
CREATED:20230616T143653Z
LAST-MODIFIED:20230616T144026Z
UID:7469-1687870800-1687876200@www.manufacturingni.org
SUMMARY:Manufacturing NI- Grow Your Exports Safely
DESCRIPTION:For any business entering a new market—especially in a country on the other side of the globe—the risks can be daunting. \nFinding new customers\, suppliers and partners\, understanding the local business culture and trade laws\, and working out the logistics of shipping your goods are just a few of the challenges of doing business internationally.  And what about foreign exchange fluctuations\, understanding payment practices and insurance requirements\, geopolitical developments and country risk and accessing the working capital you need to expand into an international market? \nThe reality is there are many possible country\, political and financial risks that you need to familiarize yourself with before entering any market of opportunity. And more importantly\, you need to understand how these risks could impact your company’s operations—and plan accordingly. \nThis webinar will help you to understand those key considerations\, help you mitigate these risks and outline the supports available to set your business up for success. \nREGISTER HERE \n  \n\nWelcome by Stephen Kelly\, Manufacturing NI\nRisks of growing business in export markets and how to navigate safely (Atradius/Lockton);\n\n\nHow banks can support with export sales (including UKEF) (Barclays – Mark Henderson);\n\n\nInvest NI export supports\n\n\nPanel session chaired by Stephen Kelly\, ManufacturingNI
URL:https://www.manufacturingni.org/event/manufacturing-ni-grow-your-exports-safely/
CATEGORIES:Webinar
ATTACH;FMTTYPE=image/jpeg:https://www.manufacturingni.org/wp-content/uploads/2023/06/4833-Manufacturing-NI-Webinar-Twitter-graphic-scaled.jpg
END:VEVENT
BEGIN:VEVENT
DTSTART;TZID=Europe/Paris:20220512T100000
DTEND;TZID=Europe/Paris:20220512T180000
DTSTAMP:20260419T211829
CREATED:20220328T202239Z
LAST-MODIFIED:20220328T202645Z
UID:5553-1652349600-1652378400@www.manufacturingni.org
SUMMARY:Anchor High Summit 2022
DESCRIPTION:We hope that you can join us for Manufacturing NI’s Anchor High Summit on Thursday 12th May 2022 in The Galgorm Resort & Spa.  Registration will be from 9am with the event opening at 9.45am and closing @5pm.  Lunch will be served as well as light refreshments throughout the day.  In the evening from 7pm onwards we will enjoy a 4 course gala dinner and networking with some after dinner special guests.
URL:https://www.manufacturingni.org/event/anchor-high-summit-2022/
LOCATION:Galgorm Resort & Spa\, 136 Fenaghy Rd\, Ballymena\, BT42 1EA\, United Kingdom
CATEGORIES:Anchor High Summit
ATTACH;FMTTYPE=image/jpeg:https://www.manufacturingni.org/wp-content/uploads/2022/03/3735-Anchor-High-square-graphic-save-the-date.jpg
END:VEVENT
BEGIN:VEVENT
DTSTART;TZID=Europe/Paris:20210629T130000
DTEND;TZID=Europe/Paris:20210629T140000
DTSTAMP:20260419T211829
CREATED:20210607T190606Z
LAST-MODIFIED:20210607T190606Z
UID:4802-1624971600-1624975200@www.manufacturingni.org
SUMMARY:Department for Communities Programmes and Services Webinar’
DESCRIPTION:Blurb TBC
URL:https://www.manufacturingni.org/event/department-for-communities-programmes-and-services-webinar/
CATEGORIES:Webinar
END:VEVENT
BEGIN:VEVENT
DTSTART;TZID=Europe/Paris:20210527T140000
DTEND;TZID=Europe/Paris:20210527T150000
DTSTAMP:20260419T211829
CREATED:20210518T194642Z
LAST-MODIFIED:20210519T193510Z
UID:4661-1622124000-1622127600@www.manufacturingni.org
SUMMARY:Just Ask- Webinar with Outsource
DESCRIPTION:Manufacturing NI are teaming up with Outsource for a webinar on Technology. \nJoin the team from Outsource Solutions on this informal webinar series to ask questions and find out more about how technology could MAKE LIFE BETTER for you and your business. \nConnect with us on 27th May at 1pm to adventure into the unknown and find out why when it comes to Cyber-Crime: \n\nSecuring your business is about more than fences and CCTV.\nDefence is better than attack when it comes to spend.\nTop tips and easy wins to share with your team and protect your bottom line.\n\nHear from Stephen Crawford and Sandra Quinn as they explore the topic and share recent experiences from NI cyber-crime activities. \n 
URL:https://www.manufacturingni.org/event/just-ask-webinar-with-outsource/
ATTACH;FMTTYPE=image/png:https://www.manufacturingni.org/wp-content/uploads/2021/05/Webinar-Graphic-.png
END:VEVENT
BEGIN:VEVENT
DTSTART;TZID=Europe/Paris:20210222T170000
DTEND;TZID=Europe/Paris:20210222T183000
DTSTAMP:20260419T211829
CREATED:20210216T200745Z
LAST-MODIFIED:20210216T200746Z
UID:3222-1614013200-1614018600@www.manufacturingni.org
SUMMARY:Trader Support Service Webinar
DESCRIPTION:For the third in our series with Trader Support Service\, we’ll be joined by Frank Dunsmuir and Shanker Singham to discuss a number of key enhancements and releases to the TSS and how it will impact your business. \nSome of the issues we’ll be approaching are: \n\nSupplementary Declarations\nTariff Options (At Risk/Not at Risk\, Rules of Origin\, UK Trader Scheme and How to claim a waiver)\nSimplified Frontier Declaration for Controlled Goods\nConsignment First (Groupage Model)\nTSS Transit Service (GB to NI via IE)\nIndirect Exports (NI to GB via IE)\n\nRegister at the link below \n 
URL:https://www.manufacturingni.org/event/trader-support-service-webinar/
CATEGORIES:Brexit,Webinar
ATTACH;FMTTYPE=image/jpeg:https://www.manufacturingni.org/wp-content/uploads/2021/02/8146_ukt_tss_500x250_v1b_kj_.jpg
END:VEVENT
END:VCALENDAR