BEGIN:VCALENDAR
VERSION:2.0
PRODID:-//Manufacturing NI - ECPv6.15.18//NONSGML v1.0//EN
CALSCALE:GREGORIAN
METHOD:PUBLISH
X-WR-CALNAME:Manufacturing NI
X-ORIGINAL-URL:https://www.manufacturingni.org
X-WR-CALDESC:Events for Manufacturing NI
REFRESH-INTERVAL;VALUE=DURATION:PT1H
X-Robots-Tag:noindex
X-PUBLISHED-TTL:PT1H
BEGIN:VTIMEZONE
TZID:Europe/Paris
BEGIN:DAYLIGHT
TZOFFSETFROM:+0100
TZOFFSETTO:+0200
TZNAME:CEST
DTSTART:20250330T010000
END:DAYLIGHT
BEGIN:STANDARD
TZOFFSETFROM:+0200
TZOFFSETTO:+0100
TZNAME:CET
DTSTART:20251026T010000
END:STANDARD
BEGIN:DAYLIGHT
TZOFFSETFROM:+0100
TZOFFSETTO:+0200
TZNAME:CEST
DTSTART:20260329T010000
END:DAYLIGHT
BEGIN:STANDARD
TZOFFSETFROM:+0200
TZOFFSETTO:+0100
TZNAME:CET
DTSTART:20261025T010000
END:STANDARD
BEGIN:DAYLIGHT
TZOFFSETFROM:+0100
TZOFFSETTO:+0200
TZNAME:CEST
DTSTART:20270328T010000
END:DAYLIGHT
BEGIN:STANDARD
TZOFFSETFROM:+0200
TZOFFSETTO:+0100
TZNAME:CET
DTSTART:20271031T010000
END:STANDARD
END:VTIMEZONE
BEGIN:VEVENT
DTSTART;TZID=Europe/Paris:20260327T093000
DTEND;TZID=Europe/Paris:20260327T110000
DTSTAMP:20260420T060044
CREATED:20260303T124106Z
LAST-MODIFIED:20260303T124106Z
UID:10747-1774603800-1774609200@www.manufacturingni.org
SUMMARY:E-DATA Roadshow Spring Series- Monaghan
DESCRIPTION:Accelerate Your Digital Journey with E-DATA \nIn the 2026 competitive landscape\, digital transformation has shifted from a luxury to a matter of survival for SMEs. To help you manage costs and meet rising market demands\, the E-DATA SME Workshop offers a clear\, actionable path to modernising your business. \nWhy Attend? \nDigitalisation isn’t just about technology; it’s about measurable growth. Research indicates that digitalised SMEs experience: \n\nA 30% average increase in annual revenue.\nA 25% boost in overall productivity.\nOperational cost reductions of up to 20-30% through automation and better resource management.\n\nReal-World Success Stories \nJoin us to see how your peers are already winning: \n\nRetail: One local retailer saw a 40% sales increase and a 25% cost reduction via e-commerce.\nManufacturing: IoT integration has helped firms reduce downtime by 30%.\nService & Efficiency: Companies are saving over 1\,000 man-hours annually by adopting digital workflow tools.\n\nYour Tailored Path to Growth \nWe recognise that every business is at a different stage. Our 75-minute session breaks down the flexible E-DATA support tracks designed for your specific digitalisation maturity level. During the session we will help you identify your most critical area for digitalisation within your business and how you can gain access to 1-to-1 expert guidance. Learn about our free support services and how we can help you with your digitalisation.
URL:https://www.manufacturingni.org/event/e-data-roadshow-spring-series-monaghan/
LOCATION:Hillgrove Hotel & Spa\, Old Armagh Road\, Monaghan\, Monaghan\, H18 RK15\, Ireland
CATEGORIES:E-DATA
ATTACH;FMTTYPE=image/png:https://www.manufacturingni.org/wp-content/uploads/2026/02/Screenshot-2026-02-03-at-16.01.08.png
END:VEVENT
BEGIN:VEVENT
DTSTART;TZID=Europe/Paris:20260401T120000
DTEND;TZID=Europe/Paris:20260401T130000
DTSTAMP:20260420T060044
CREATED:20260220T102254Z
LAST-MODIFIED:20260407T214638Z
UID:10698-1775044800-1775048400@www.manufacturingni.org
SUMMARY:Cyber Risk\, Contracts & Compliance Webinar: Strengthening Your Defences in 2026
DESCRIPTION:Manufacturing NI’s webinar “Cyber Risk\, Contracts and Compliance” with Mills Selig outlined the growing legal\, contractual and operational cyber risks facing manufacturers\, and the practical steps businesses can take to strengthen resilience. Aisling highlighted how cyber risk now extends well beyond IT\, with supply-chain exposure\, insider threats\, AI-enabled attacks and evolving UK and EU compliance obligations all increasing pressure on manufacturers to review governance\, contracts and incident response planning.\n\nKey Takeaways\n– Treat cyber risk as a board-level issue that affects contracts\, resilience\, reputation and operations.\n– Review supplier and customer contracts to ensure cyber security obligations\, audit rights and breach notification timelines are clearly defined.\n– Carry out legal and technical gap analyses to identify compliance requirements\, contractual weaknesses and priority risks.\n– Take a proportionate approach by focusing first on personal data\, key systems and higher-risk suppliers.\n– Strengthen governance\, documentation and incident response plans to demonstrate preparedness and reduce regulatory and commercial exposure.\n\n26 Mills Selig – MNI Presentation – RI – FINAL – To Share
URL:https://www.manufacturingni.org/event/cyber-risk-contracts-compliance-webinar-strengthening-your-defences-in-2026/
LOCATION:Online
CATEGORIES:Webinar
ATTACH;FMTTYPE=image/png:https://www.manufacturingni.org/wp-content/uploads/2026/02/Webinar-series-14.png
END:VEVENT
BEGIN:VEVENT
DTSTART;TZID=Europe/Paris:20260520T183000
DTEND;TZID=Europe/Paris:20260520T230000
DTSTAMP:20260420T060044
CREATED:20260108T144003Z
LAST-MODIFIED:20260108T160822Z
UID:10509-1779301800-1779318000@www.manufacturingni.org
SUMMARY:Made in NI Awards 2026
DESCRIPTION:Insider’s flagship celebration of Northern Ireland’s manufacturing and engineering excellence returns in 2026 with an expanded and updated awards programme. Now in its 11th year\, the event features new and enhanced categories that reflect the sector’s innovation\, growth and evolving impact on the regional economy. \nFor the first time\, the awards will be hosted as a gala black-tie evening on Wednesday 20th May 2026 at the Titanic Museum\, Belfast. Category winners will also go on to compete on the national stage at the Insider Made in the UK Awards. \nOnline entries are now open\, with an independent judging panel – chaired by Insider’s Northern Ireland business editor\, Philip Cunliffe – selecting the finalists. \nThe list of award categories are: \n\nFood & Drink Award\nBio-tech Manufacturer of the Year (NEW FOR 2026)\nAutomotive Supply Chain Award\nAI Tech Innovation of the Year\nEngineering Manufacturer of the Year (NEW FOR 2026)\nNewcomer of the Year (NEW FOR 2026)\nSustainable / Ethical Manufacturer Award\nExport Award\nProduct Innovation of the Year\nInvestment Project of the Year (NEW FOR 2026)\nCollaboration of the Year (NEW FOR 2026)\nEngineer of the Year (NEW FOR 2026)\nApprentice of the Year\nManufacturer of the Year (under & over £25m)\nOutstanding Contribution to Northern Ireland Manufacturing (NEW FOR 2026)\n\nWhy enter? \n\nFree PR exposure\nComplimentary ticket for all finalists\nBuild business connections\nAutomatic entry for winners to the Made in the UK Award
URL:https://www.manufacturingni.org/event/made-in-ni-awards-2026/
CATEGORIES:Manufacturing Month
ATTACH;FMTTYPE=image/png:https://www.manufacturingni.org/wp-content/uploads/2026/01/Made-in-NI_primary-logo.png
END:VEVENT
BEGIN:VEVENT
DTSTART;TZID=Europe/Paris:20260903T090000
DTEND;TZID=Europe/Paris:20260903T150000
DTSTAMP:20260420T060044
CREATED:20260416T084540Z
LAST-MODIFIED:20260416T084540Z
UID:10820-1788426000-1788447600@www.manufacturingni.org
SUMMARY:Manufacturing Solutions 2026
DESCRIPTION:GTMA in association with The Advanced Manufacturing Innovation Centre (AMIC) at Queen’s University Belfast (QUB)\, and supported by Manufacturing N.I and The Northern Ireland Chamber of Commerce\, will be holding a prestigious & free to attend  Manufacturing Solutions N.Ireland event on 3rd September 2026 \n\n\nThe Venue for the 2026 event is the highly acclaimed La Mon Hotel & Country Club\, Gransha Road Castlereagh\, Belfast BT23 5RF\, Northern Ireland \n\n\nBringing all the leading technology suppliers together the  event provides an ideal conduit for the transfer of technology from the specialist suppliers to the practical industrial landscape\, where its take-up and practical application can be used to learn more about the very latest in manufacturing processes\, new technology/equipment\, materials as well as key measurement and inspection technologies and service providers. \n\n\nThere will be free parking and free refreshments on offer to all exhibitors and visitors. \n\n\nINTERESTED IN EXHIBITING? – contact david@gtma.co.uk
URL:https://www.manufacturingni.org/event/manufacturing-solutions-2026/
LOCATION:La Mon Hotel & Country Club\, 41 Gransha Road\, Comber\, Belfast\, BT23 5RF\, United Kingdom
CATEGORIES:Business Support
ATTACH;FMTTYPE=image/png:https://www.manufacturingni.org/wp-content/uploads/2026/04/Screenshot-2026-04-16-at-09.30.56.png
END:VEVENT
END:VCALENDAR