BEGIN:VCALENDAR
VERSION:2.0
PRODID:-//Manufacturing NI - ECPv6.15.18//NONSGML v1.0//EN
CALSCALE:GREGORIAN
METHOD:PUBLISH
X-WR-CALNAME:Manufacturing NI
X-ORIGINAL-URL:https://www.manufacturingni.org
X-WR-CALDESC:Events for Manufacturing NI
REFRESH-INTERVAL;VALUE=DURATION:PT1H
X-Robots-Tag:noindex
X-PUBLISHED-TTL:PT1H
BEGIN:VTIMEZONE
TZID:Europe/Paris
BEGIN:DAYLIGHT
TZOFFSETFROM:+0100
TZOFFSETTO:+0200
TZNAME:CEST
DTSTART:20250330T010000
END:DAYLIGHT
BEGIN:STANDARD
TZOFFSETFROM:+0200
TZOFFSETTO:+0100
TZNAME:CET
DTSTART:20251026T010000
END:STANDARD
BEGIN:DAYLIGHT
TZOFFSETFROM:+0100
TZOFFSETTO:+0200
TZNAME:CEST
DTSTART:20260329T010000
END:DAYLIGHT
BEGIN:STANDARD
TZOFFSETFROM:+0200
TZOFFSETTO:+0100
TZNAME:CET
DTSTART:20261025T010000
END:STANDARD
BEGIN:DAYLIGHT
TZOFFSETFROM:+0100
TZOFFSETTO:+0200
TZNAME:CEST
DTSTART:20270328T010000
END:DAYLIGHT
BEGIN:STANDARD
TZOFFSETFROM:+0200
TZOFFSETTO:+0100
TZNAME:CET
DTSTART:20271031T010000
END:STANDARD
END:VTIMEZONE
BEGIN:VEVENT
DTSTART;TZID=Europe/Paris:20260128T120000
DTEND;TZID=Europe/Paris:20260128T130000
DTSTAMP:20260419T171357
CREATED:20251223T101954Z
LAST-MODIFIED:20260128T212420Z
UID:10364-1769601600-1769605200@www.manufacturingni.org
SUMMARY:Menopause Matters at Work Webinar - Take Action in Your Business
DESCRIPTION:In our recent webinar\, we looked at what menopause inclusion means in practice for manufacturing employers in Northern Ireland\, and why getting it right supports retention\, performance and wellbeing. Manufacturing NI is pleased to share this session in partnership with Work Life People\, helping organisations understand why menopause is now a strategic workforce issue and what the changing legislative landscape means in practice. The session also introduces the Menopause Accreditation Programme (MAP) – a structured pathway to help employers move from awareness to action and prepare confidently for Menopause Action Plans.\n\nManufacturing NI Member offer: Work Life People is offering a free Menopause Strategy Session and 10% discount on the Menopause Accreditation and eLearning Programmes.\n\nFor more information contact: karina@worklifepeople.com for visit: www.worklifepeople.com
URL:https://www.manufacturingni.org/event/menopause-matters-at-work-take-action-in-your-business/
CATEGORIES:Webinar
ATTACH;FMTTYPE=image/png:https://www.manufacturingni.org/wp-content/uploads/2025/12/b1e082ed-1d27-460c-4f73-06e2e5ab0e47.png
END:VEVENT
END:VCALENDAR