BEGIN:VCALENDAR
VERSION:2.0
PRODID:-//Manufacturing NI - ECPv6.15.18//NONSGML v1.0//EN
CALSCALE:GREGORIAN
METHOD:PUBLISH
X-WR-CALNAME:Manufacturing NI
X-ORIGINAL-URL:https://www.manufacturingni.org
X-WR-CALDESC:Events for Manufacturing NI
REFRESH-INTERVAL;VALUE=DURATION:PT1H
X-Robots-Tag:noindex
X-PUBLISHED-TTL:PT1H
BEGIN:VTIMEZONE
TZID:Europe/Paris
BEGIN:DAYLIGHT
TZOFFSETFROM:+0100
TZOFFSETTO:+0200
TZNAME:CEST
DTSTART:20240331T010000
END:DAYLIGHT
BEGIN:STANDARD
TZOFFSETFROM:+0200
TZOFFSETTO:+0100
TZNAME:CET
DTSTART:20241027T010000
END:STANDARD
BEGIN:DAYLIGHT
TZOFFSETFROM:+0100
TZOFFSETTO:+0200
TZNAME:CEST
DTSTART:20250330T010000
END:DAYLIGHT
BEGIN:STANDARD
TZOFFSETFROM:+0200
TZOFFSETTO:+0100
TZNAME:CET
DTSTART:20251026T010000
END:STANDARD
BEGIN:DAYLIGHT
TZOFFSETFROM:+0100
TZOFFSETTO:+0200
TZNAME:CEST
DTSTART:20260329T010000
END:DAYLIGHT
BEGIN:STANDARD
TZOFFSETFROM:+0200
TZOFFSETTO:+0100
TZNAME:CET
DTSTART:20261025T010000
END:STANDARD
END:VTIMEZONE
BEGIN:VEVENT
DTSTART;TZID=Europe/Paris:20251202T130000
DTEND;TZID=Europe/Paris:20251202T143000
DTSTAMP:20260420T002206
CREATED:20250825T104418Z
LAST-MODIFIED:20251205T094256Z
UID:9950-1764680400-1764685800@www.manufacturingni.org
SUMMARY:Energy\, Emissions & Export: What Every Manufacturer Needs to Know
DESCRIPTION:Our recent webinar with carbonfit walked NI manufacturers through the practical steps needed to prepare for both EU CBAM and the UK’s forthcoming CBAM\, and what these changes mean specifically for businesses operating from Northern Ireland.\n\nBecause NI trades into both the EU Single Market (for goods) and Great Britain\, manufacturers need to understand two parallel systems:\n\nEU CBAM – already live in its transitional phase and moving to full financial obligations from 1 January 2026. This affects NI businesses only when exporting CBAM-listed goods directly into the EU\, or when supplying goods that ultimately form part of an EU export.\nUK CBAM – a new carbon tax applying from 1 January 2027\, covering imports into Great Britain. This affects NI manufacturers importing CBAM-listed materials from outside the UK or those exposed to cost pass-through within their UK supply chains.\n\nKey topics covered: \n\nThe difference between EU and UK CBAM\, who is in scope\, and which products are affected under each regime.\nWhy accurate\, verified emissions data is essential to reduce costs under EU CBAM and influencing UK CBAM liability once rates go live.\nSupply-chain readiness: how NI firms can proactively engage suppliers (especially outside the UK/EU) to ensure emissions data is available and avoid delays or default values.\nManaging energy use at site level through sub-metering\, bill analysis and procurement to improve competitiveness in both CBAM systems.\nPractical actions for 2025/6: confirming CN codes\, checking import/export volumes\, mapping suppliers\, and preparing data flows for both EU and UK reporting are audit and verification ready.\n\nCarbonfit is offering a free energy bill health check to help manufacturers identify potential carbon savings\, cost reductions and efficiency opportunities\, supporting wider CBAM preparedness. They are also on hand if you want to discuss more end to end support for complete CBAM assurance.\n\n\nFor more information contact Ben Craig\, Head of Partnerships at Carbonfit: ben@carbonfit.online \nSlides are available here: 2-12-25 Carbonfit – Energy Emissions Export Webinar
URL:https://www.manufacturingni.org/event/energy-emissions-export-what-every-manufacturer-needs-to-know/
LOCATION:Online
CATEGORIES:Webinar
ATTACH;FMTTYPE=image/png:https://www.manufacturingni.org/wp-content/uploads/2025/08/Webinar-series-15-1.png
END:VEVENT
END:VCALENDAR