BEGIN:VCALENDAR
VERSION:2.0
PRODID:-//Manufacturing NI - ECPv6.15.18//NONSGML v1.0//EN
CALSCALE:GREGORIAN
METHOD:PUBLISH
X-ORIGINAL-URL:https://www.manufacturingni.org
X-WR-CALDESC:Events for Manufacturing NI
REFRESH-INTERVAL;VALUE=DURATION:PT1H
X-Robots-Tag:noindex
X-PUBLISHED-TTL:PT1H
BEGIN:VTIMEZONE
TZID:Europe/Paris
BEGIN:DAYLIGHT
TZOFFSETFROM:+0100
TZOFFSETTO:+0200
TZNAME:CEST
DTSTART:20240331T010000
END:DAYLIGHT
BEGIN:STANDARD
TZOFFSETFROM:+0200
TZOFFSETTO:+0100
TZNAME:CET
DTSTART:20241027T010000
END:STANDARD
BEGIN:DAYLIGHT
TZOFFSETFROM:+0100
TZOFFSETTO:+0200
TZNAME:CEST
DTSTART:20250330T010000
END:DAYLIGHT
BEGIN:STANDARD
TZOFFSETFROM:+0200
TZOFFSETTO:+0100
TZNAME:CET
DTSTART:20251026T010000
END:STANDARD
BEGIN:DAYLIGHT
TZOFFSETFROM:+0100
TZOFFSETTO:+0200
TZNAME:CEST
DTSTART:20260329T010000
END:DAYLIGHT
BEGIN:STANDARD
TZOFFSETFROM:+0200
TZOFFSETTO:+0100
TZNAME:CET
DTSTART:20261025T010000
END:STANDARD
END:VTIMEZONE
BEGIN:VEVENT
DTSTART;TZID=Europe/Paris:20251001T130000
DTEND;TZID=Europe/Paris:20251001T130000
DTSTAMP:20260420T053752
CREATED:20250825T101445Z
LAST-MODIFIED:20251002T092512Z
UID:9939-1759323600-1759323600@www.manufacturingni.org
SUMMARY:What is AMIC going to do for my business?
DESCRIPTION:The Advanced Manufacturing Innovation Centre (AMIC)\, a £100 million initiative led by Queen’s University Belfast under the Belfast Region City Deal\, is transforming Northern Ireland’s manufacturing landscape. By fostering innovation\, collaboration\, and skills development\, AMIC is helping local businesses tackle both productivity and sustainability challenges.\nIn our recent webinar\, we explored how AMIC supports companies through:\n\n\nInnovation & Collaboration – Access to cutting-edge technologies including automation\, Industry 4.0\, smart design\, polymers\, nanotech & photonics.\n\n\nProductivity & Sustainability – Practical projects\, like with White’s Oats\, cutting waste and costs (77 tons less cardboard per year).\n\n\nFunding & Skills – Support through innovation vouchers\, KTPs\, training\, and apprenticeships to develop future-ready teams.\n\n\nFlexible Access – Open facilities\, consulting\, and tailored SME and sector-specific support.\n\n\nBusinesses interested in exploring AMIC’s capabilities or initiating projects are encouraged to contact AMIC directly or visit their website to learn about available programs\, funding\, and collaborative opportunities.
URL:https://www.manufacturingni.org/event/what-is-amic-going-to-do-for-my-business/
LOCATION:Online
CATEGORIES:Business Support,Webinar
ATTACH;FMTTYPE=image/jpeg:https://www.manufacturingni.org/wp-content/uploads/2025/08/amic-webinar.jpg
END:VEVENT
END:VCALENDAR